BEGIN:VCALENDAR
VERSION:2.0
PRODID:-//Trinity Health - ECPv6.15.9//NONSGML v1.0//EN
CALSCALE:GREGORIAN
METHOD:PUBLISH
X-ORIGINAL-URL:https://www.trinityhealth.org
X-WR-CALDESC:Events for Trinity Health
REFRESH-INTERVAL;VALUE=DURATION:PT1H
X-Robots-Tag:noindex
X-PUBLISHED-TTL:PT1H
BEGIN:VTIMEZONE
TZID:America/North_Dakota/Center
BEGIN:DAYLIGHT
TZOFFSETFROM:-0600
TZOFFSETTO:-0500
TZNAME:CDT
DTSTART:20250309T080000
END:DAYLIGHT
BEGIN:STANDARD
TZOFFSETFROM:-0500
TZOFFSETTO:-0600
TZNAME:CST
DTSTART:20251102T070000
END:STANDARD
BEGIN:DAYLIGHT
TZOFFSETFROM:-0600
TZOFFSETTO:-0500
TZNAME:CDT
DTSTART:20260308T080000
END:DAYLIGHT
BEGIN:STANDARD
TZOFFSETFROM:-0500
TZOFFSETTO:-0600
TZNAME:CST
DTSTART:20261101T070000
END:STANDARD
BEGIN:DAYLIGHT
TZOFFSETFROM:-0600
TZOFFSETTO:-0500
TZNAME:CDT
DTSTART:20270314T080000
END:DAYLIGHT
BEGIN:STANDARD
TZOFFSETFROM:-0500
TZOFFSETTO:-0600
TZNAME:CST
DTSTART:20271107T070000
END:STANDARD
END:VTIMEZONE
BEGIN:VEVENT
DTSTART;TZID=America/North_Dakota/Center:20260303T080000
DTEND;TZID=America/North_Dakota/Center:20260303T170000
DTSTAMP:20260423T130439
CREATED:20251204T212044Z
LAST-MODIFIED:20251231T213857Z
UID:10004139-1772524800-1772557200@www.trinityhealth.org
SUMMARY:Basic Rhythms (Basic ECG Interpretation)
DESCRIPTION:Basic Rhythms (Basic ECG Interpretation) \nAre you a healthcare professional who participates in the management of medical emergencies? Elevate your critical care expertise with the Basic Rhythms Course taught by the EMS Education Department. This essential training builds on your medical knowledge enhancing care of critical patients. \nCourse Overview & Key Benefits \nThe Basic Rhythms Course provides a solid foundation in ECG rhythm interpretation for new and developing healthcare providers. This training breaks down cardiac electrical activity\, waveform components\, and common arrhythmias into simple\, easy-to-understand steps. Participants will learn how to confidently recognize normal and abnormal rhythms\, preparing them for real-world patient monitoring and advanced ECG education. \n• Clear\, beginner -friendly approach to rhythm interpretation\n• Improved recognition of early warning signs with hands on practice with real ECG strips\n• Builds confidence for hospital\, prehospital and clinical care settings \nWhat You Will Learn\nParticipants with develop the skills to : \n• Understand basic cardiac anatomy and the electrical conduction system\n• Identify ECG waveform components (P wave\, QRS\, T wave\, intervals and segments)\n• Recognize normal sinus rhythm and common arrhythmias\n• Interpret atrial\, junctional\, ventricular rhythms and heart blocks\n• Identify life-threatening rhythms requiring rapid intervention\n• Apply correct lead placement and recognize common ECG artifacts \nWho Should Attend\nThis course is ideal for: \n• Nursing students and new graduate nurses\n• Cardiac monitoring/telemetry technicians\n• Paramedic and medical students needing foundational ECG skills\n• Medical assistants\, patient care techs and allied health professionals\n• Any healthcare provider responsible for patient monitoring or basic ECG interpretation \nFor any questions\, call us at 701-858-6310.
URL:https://www.trinityhealth.org/event/basic-rhythms-basic-ecg-interpretation-2/
LOCATION:Trinity Health Riverside Education Center\, 1900 8th Avenue SE\, Minot\, North Dakota\, 58701
ORGANIZER;CN="EMS Education":MAILTO:ems.education@trinityhealth.org
END:VEVENT
BEGIN:VEVENT
DTSTART;TZID=America/North_Dakota/Center:20260303T140000
DTEND;TZID=America/North_Dakota/Center:20260303T170000
DTSTAMP:20260423T130439
CREATED:20260202T165515Z
LAST-MODIFIED:20260202T170724Z
UID:10004156-1772546400-1772557200@www.trinityhealth.org
SUMMARY:Free Community Car Seat Checks
DESCRIPTION:Is your car seat: \n\nRight for your child?\nProperly installed?\nIn safe condition?\nRecalled or expired?\n\nCar seat checks are hosted by the Minot Fire Department and the Minot Car Seat Coalition. The Coalition consists of First District Health Unit\, Trinity Health\, Minot Fire Department and other Community Partners. \nSeat Checks are by appointment only. To make an appointment\, call First District Health Unit at 701-837-5195. If leaving a message\, please give the following information: number of seats to be checked\, make and model of vehicle\, ages of child(ren)\, brand and model of car seat and preferred time of check on scheduled date. \n\nPlease allow 45 minutes per seat.\nAll car seat checks will take place at Minot Fire Station Number 1\, 2111 10th St. SW\, Minot. (Enter through the north garage doors.)\nIf you have a cough\, fever or shortness of breath\, or are not feeling well\, please call 701-837-5195\, leave a message with your name and callback number\, and arrangements will be made for a seat check on a later date.\n\nDonations gratefully accepted.
URL:https://www.trinityhealth.org/event/free-community-car-seat-checks-4/
LOCATION:Minot Fire Station Number 1\, 2111 10th Street SW\, Minot\, ND\, 58701
CATEGORIES:Trinity Health Events
END:VEVENT
BEGIN:VEVENT
DTSTART;TZID=America/North_Dakota/Center:20260304T083000
DTEND;TZID=America/North_Dakota/Center:20260304T123000
DTSTAMP:20260423T130439
CREATED:20251121T192447Z
LAST-MODIFIED:20260224T203703Z
UID:10004085-1772613000-1772627400@www.trinityhealth.org
SUMMARY:Basic Life Support
DESCRIPTION:AHA Basic Life Support (BLS) for Healthcare Providers \nThe Basic Life Support (BLS) Provider Course from the American Heart Association (AHA) is the bedrock of emergency cardiovascular care. This essential\, hands-on training is mandatory for virtually all healthcare professionals and provides the critical skills needed to respond to life-threatening emergencies in both pre-hospital and in-facility settings. \nOur official AHA course trains participants to promptly recognize several life-threatening emergencies\, deliver high-quality CPR\, administer appropriate ventilations and provide early use of an Automated External Defibrillator (AED). \nCourse Overview & Key Benefits \nThe AHA BLS Course focuses heavily on skills on proficiency\, utilizing a video- based\, instructor-led approach with realistic scenario practice.  You will learn both single-rescuer and team basic life support skills\, emphasizing the importance of effective team dynamics for improved patient outcomes. \n• Core Certification: Fulfill the BLS requirement for nurses\, physicians\, paramedics dentists and other medical staff\n• Skill Mastery: Gain confidence performing high-quality chest compressions and rescue breathing on adults\, children infants\n• Official Certification: Receive your two-year AHA BLS  Provider Certification (eCard) upon successful course completion \nWhat You Will Learn\nThis high-impact BLS training covers key life-saving steps: \n• The critical concepts of High-Quality CPR\n• The AHA Chain of Survival\n• CPR and AED use for adults\, children and infants\n• Relief  of Foreign-Body Airway obstruction (Choking) for all ages\n• Ventilation techniques using a barrier device (pocket mask)\n• Importance of Team Dynamics in multi-rescuer resuscitation \nWho Should Attend?\nThis course is designed for healthcare providers and other personnel who need to be able to perform CPR and other basic cardiovascular life support skills.  This includes\, but not limited to: \n• Nurses (RN/LPN/CNA)\n• EMT’s\n• Medical Assistants and medical students\n• Dental hygienists\n• Pharmacists \nFor any questions\, call us at 701-858-6310.
URL:https://www.trinityhealth.org/event/bls-for-healthsaver-providers-2/
LOCATION:Trinity Health Riverside Education Center\, 1900 8th Avenue SE\, Minot\, North Dakota\, 58701
ORGANIZER;CN="EMS Education":MAILTO:ems.education@trinityhealth.org
END:VEVENT
BEGIN:VEVENT
DTSTART;TZID=America/North_Dakota/Center:20260304T180000
DTEND;TZID=America/North_Dakota/Center:20260304T200000
DTSTAMP:20260423T130439
CREATED:20250915T161626Z
LAST-MODIFIED:20250915T161726Z
UID:10004034-1772647200-1772654400@www.trinityhealth.org
SUMMARY:Breastfeeding Basics
DESCRIPTION:The Breastfeeding Basics class is an opportunity to learn all things breastfeeding. Topics covered include feeding positions\, proper latch\, skin-to-skin contact\, signs baby is getting enough to eat\, and more! We encourage you to attend the class prior to delivery\, and are also welcome to attend if you’ve already delivered. Support persons are welcome to attend. \nPlease complete the online registration form. Classes are free of charge. \nFor more information call 701-418-8806 or 1-800-862-0005\, Monday – Friday\, 8:00 a.m. to 3:30 p.m.
URL:https://www.trinityhealth.org/event/breastfeeding-basics-2/
LOCATION:Trinity Health Hospital / Prairie Rose Conference Center\, 2307 37th Avenue SW\, Minot\, North Dakota\, 58701
CATEGORIES:Family Birth Center
ORGANIZER;CN="Danica Schaefer MSN%2C RN%2C C-EFM":MAILTO:Danica.Schaefer@trinityhealth.org
END:VEVENT
BEGIN:VEVENT
DTSTART;TZID=America/North_Dakota/Center:20260307T090000
DTEND;TZID=America/North_Dakota/Center:20260307T140000
DTSTAMP:20260423T130439
CREATED:20251118T215958Z
LAST-MODIFIED:20260227T154702Z
UID:10004069-1772874000-1772892000@www.trinityhealth.org
SUMMARY:Heartsaver Pediatric First Aid CPR AED
DESCRIPTION:AHA Heartsaver Pediatric First Aid CPR AED Certification for Infant and Childcare\nProtecting the children in your care requires specialized knowledge.  The American Heart Association (AHA) Heartsaver Pediatric First Aid CPR AED Course is the gold standard training designed specifically for individuals who have a duty to respond to illnesses and injuries in a child or infant in the first few minutes until professional help arrives. \nCourse Overview & Key Benefits\n• Regulatory Compliance: Designed to meet the state regulatory requirements for childcare workers across the country.\n• Age-Specific Skills: Master life-saving techniques specifically tailored for infant CPR and child CPR.\n• Official Certification: Receive your two-year AHA Heartsaver Pediatric Course Completion Card. \nWhat You Will Learn\nOur focused Pediatric First Aid CPR AED training covers: \n• Child and Infant CPR and AED Use\n• First Aid Basics for children\, including scene safety and calling for help.\n• Management of Pediatric Medical Emergencies (e.g.\,severe allergies/EpiPen use\, seizures\, difficulty breathing).\n• Treating Pediatric Injury Emergencies (e.g.\, broken bones\, burns\, controlling severe bleeding).\n• Relief of Choking for infants and children.\n• Recognizing and responding to environmental emergencies. \nWho Should Attend?\nThis course is a requirement or highly recommended for anyone involved in childcare: \n• Childcare Workers and Daycare Providers\n• Teachers and School Staff\n• Camp Counselors and Youth Organization Leaders\n• Foster Care Workers\n• Parents\, Grandparents\, and Babysitters interested in Pediatric CPR First Aid training. \nFor any questions\, call us at 701-858-6310.
URL:https://www.trinityhealth.org/event/heartsaver-pediatric-first-aid-cpr-aed/
LOCATION:Trinity Health Riverside Education Center\, 1900 8th Avenue SE\, Minot\, North Dakota\, 58701
END:VEVENT
BEGIN:VEVENT
DTSTART;TZID=America/North_Dakota/Center:20260307T090000
DTEND;TZID=America/North_Dakota/Center:20260307T160000
DTSTAMP:20260423T130439
CREATED:20250915T151228Z
LAST-MODIFIED:20250915T151228Z
UID:10004011-1772874000-1772899200@www.trinityhealth.org
SUMMARY:Prepared Childbirth Class
DESCRIPTION:Prepared Childbirth classes are offered monthly. \nEach session includes a tour of the Birthplace as well as information regarding: \n\nSigns of labor\nWhat to expect in labor\nComfort measures\nOptions for pain relief\nEarly postpartum cares\nTour of the Birthplace\nAnd much more!\n\nClass should be attended during the last eight weeks of pregnancy. \nRegistration is required. Please complete the online registration form. Classes are free of charge. \nFor more information call 701-418-8806 or 1-800-862- 0005\, Monday – Friday\, 8:00 a.m. to 3:30 p.m.
URL:https://www.trinityhealth.org/event/prepared-childbirth-class-13/
LOCATION:Trinity Health Hospital / Prairie Rose Conference Center\, 2307 37th Avenue SW\, Minot\, North Dakota\, 58701
CATEGORIES:Family Birth Center
ORGANIZER;CN="Danica Schaefer MSN%2C RN%2C C-EFM":MAILTO:Danica.Schaefer@trinityhealth.org
END:VEVENT
BEGIN:VEVENT
DTSTART;TZID=America/North_Dakota/Center:20260309T180000
DTEND;TZID=America/North_Dakota/Center:20260309T203000
DTSTAMP:20260423T130439
CREATED:20250915T155029Z
LAST-MODIFIED:20250915T155029Z
UID:10004023-1773079200-1773088200@www.trinityhealth.org
SUMMARY:Basics of Baby Care
DESCRIPTION:Welcoming a new baby is a special and exciting time! A time that can also bring up many questions: How will I know my baby is hungry? When will my baby sleep? How do I keep my baby safe? This class will answer those questions and more! We will cover the basics of newborn care such as feeding\, bathing\, diapering\, soothing\, and sleep. This class does NOT include infant CPR. Available to expectant or parents of newborns. \n  \nPlease complete the online registration form. Classes are free of charge. For more information call 701-418-8806 or 1-800-862-0005\, Monday – Friday\, 8:00 a.m. to 3:30 p.m.
URL:https://www.trinityhealth.org/event/basics-of-baby-care-6/
LOCATION:Trinity Health Hospital / Prairie Rose Conference Center\, 2307 37th Avenue SW\, Minot\, North Dakota\, 58701
CATEGORIES:Family Birth Center
ORGANIZER;CN="Danica Schaefer MSN%2C RN%2C C-EFM":MAILTO:Danica.Schaefer@trinityhealth.org
END:VEVENT
BEGIN:VEVENT
DTSTART;TZID=America/North_Dakota/Center:20260310T083000
DTEND;TZID=America/North_Dakota/Center:20260311T170000
DTSTAMP:20260423T130439
CREATED:20251128T162248Z
LAST-MODIFIED:20251231T221650Z
UID:10004100-1773131400-1773248400@www.trinityhealth.org
SUMMARY:Advanced Cardiac Life Support- Initial
DESCRIPTION:AHA ACLS Provider Initial Course (Advanced Cardiovascular Life Support) \nAre you a healthcare professional who participates in the management of cardiovascular emergencies? Elevate your critical care expertise with the American Heart Association (AHA) Advanced Cardiovascular Life Support (ACLS) Provider Update Course. This essential training builds directly upon your Basic Life Support (BLS) foundation\, equipping you with the advanced knowledge and skills required to lead or participate in high-performance resuscitation teams. \nThis ACLS Provider Initial course is for first-time participants or those participants whose certification cards have expired.  \nCourse Overview & Key Benefits \nThe official AHA ACLS course emphasizes the critical importance of continuous\, high-quality CPR and integrates the science of the latest AHA Guidelines for CPR and ECC.1 Through hands-on instruction and realistic\, case-based scenarios (Megacode simulation)\, you will learn a systematic approach to recognizing and intervening in cardiopulmonary emergencies. \n• Gain Confidence: Learn to confidently manage cardiac arrest\, stroke and acute coronary syndromes (ACS)\n• Enhance Teamwork: Master effective communication and high-performance team dynamics to optimize patient outcomes\n• Official Certification: Receive your two-year AHA ACLS  Provider Certification (eCard) upon successful course completion \nWhat You Will Learn\nOur comprehensive ACLS training covers critical topics for emergency and critical care personnel\, including: \n• Systematic Approach (Primary and Secondary Assessments)\n• Early Recognition and Management of Respiratory and Cardiac Arrest\n• Airway Management Techniques\n• Rhythm Recognition and Defibrillation\n• Post-Cardiac Arrest Care\n• Cardioversion and Transcutaneous Pacing \nWho Should Attend?\nThis course is designed for those whose job responsibilities require ACLS certification and have a current and valid ACLS certification eCard .  This includes\, but not limited to: \n• Nurses (RNs\, NPs\, PAs)\n• Emergency Medicine Personnel\n• Critical Care Personnel\n• Respiratory Therapists\n• Paramedics \nFor any questions\, call us at 701-858-6310.
URL:https://www.trinityhealth.org/event/advanced-cardiac-life-support-initial-2/
LOCATION:Trinity Health Riverside Education Center\, 1900 8th Avenue SE\, Minot\, North Dakota\, 58701
ORGANIZER;CN="EMS Education":MAILTO:ems.education@trinityhealth.org
END:VEVENT
BEGIN:VEVENT
DTSTART;TZID=America/North_Dakota/Center:20260317T083000
DTEND;TZID=America/North_Dakota/Center:20260317T170000
DTSTAMP:20260423T130439
CREATED:20251202T211428Z
LAST-MODIFIED:20251202T211428Z
UID:10004126-1773736200-1773766800@www.trinityhealth.org
SUMMARY:Advanced Cardiac Life Support- Update
DESCRIPTION:AHA ACLS Provider Update Course (Advanced Cardiovascular Life Support) \nAre you a healthcare professional who participates in the management of cardiovascular emergencies? Elevate your critical care expertise with the American Heart Association (AHA) Advanced Cardiovascular Life Support (ACLS) Provider Update Course. This essential training builds directly upon your Basic Life Support (BLS) foundation\, equipping you with the advanced knowledge and skills required to lead or participate in high-performance resuscitation teams. \nThis ACLS Provider Update course is for participants who have valid ACLS Provider certification that has not expired.  \nCourse Overview & Key Benefits \nThe official AHA ACLS course emphasizes the critical importance of continuous\, high-quality CPR and integrates the science of the latest AHA Guidelines for CPR and ECC.1 Through hands-on instruction and realistic\, case-based scenarios (Megacode simulation)\, you will learn a systematic approach to recognizing and intervening in cardiopulmonary emergencies. \n• Gain Confidence: Learn to confidently manage cardiac arrest\, stroke and acute coronary syndromes (ACS)\n• Enhance Teamwork: Master effective communication and high-performance team dynamics to optimize patient outcomes\n• Official Certification: Receive your two-year AHA ACLS  Provider Certification (eCard) upon successful course completion \nWhat You Will Learn\nOur comprehensive ACLS training covers critical topics for emergency and critical care personnel\, including: \n• Systematic Approach (Primary and Secondary Assessments)\n• Early Recognition and Management of Respiratory and Cardiac Arrest\n• Airway Management Techniques\n• Rhythm Recognition and Defibrillation\n• Post-Cardiac Arrest Care\n• Cardioversion and Transcutaneous Pacing \nWho Should Attend?\nThis course is designed for those whose job responsibilities require ACLS certification and have a current and valid ACLS certification eCard .  This includes\, but not limited to: \n• Nurses (RNs\, NPs\, PAs)\n• Emergency Medicine Personnel\n• Critical Care Personnel\n• Respiratory Therapists\n• Paramedics \nFor any questions\, call us at 701-858-6310.
URL:https://www.trinityhealth.org/event/advanced-cardiac-life-support-update-3/
LOCATION:Trinity Health Riverside Education Center\, 1900 8th Avenue SE\, Minot\, North Dakota\, 58701
ORGANIZER;CN="EMS Education":MAILTO:ems.education@trinityhealth.org
END:VEVENT
BEGIN:VEVENT
DTSTART;TZID=America/North_Dakota/Center:20260318T083000
DTEND;TZID=America/North_Dakota/Center:20260318T170000
DTSTAMP:20260423T130439
CREATED:20251202T201138Z
LAST-MODIFIED:20251202T201138Z
UID:10004113-1773822600-1773853200@www.trinityhealth.org
SUMMARY:Pediatric Advanced Life Support- Update
DESCRIPTION:AHA PALS Provider Update Course (Pediatric Advanced Life Support)\nAre you a healthcare provider who responds to pediatric emergencies in a hospital\, clinic\, or pre-hospital setting? Specialized care is vital when treating children\, and the American Heart Association (AHA) Pediatric Advanced Life Support (PALS) Provider Course is the standard for equipping you with those critical skills. This course empowers you to recognize\, prioritize\, and manage life-threatening pediatric cardiopulmonary conditions. \nThis PALS Provider Update course is for participants who have valid PALS Provider certification that has not yet expired.  \nCourse Overview & Key Benefits \nThe official AHA PALS course emphasizes a systematic\, hands-on approach to pediatric assessment\, effective respiratory management\, and high-quality cardiopulmonary resuscitation. Following the latest AHA Guidelines for CPR and ECC\, you will participate in dynamic\, case-based scenarios (PALS Megacode) designed around the most common pediatric emergencies. \n• Systematic Approach: Master the initial assessment and stabilization of critically ill or injured children\n• Effective Intervention: Learn to manage pediatric respiratory emergencies\, shock and pediatric cardiac arrest\n• Official Certification: Receive your two-year AHA PALS  Provider Certification (eCard) upon successful course completion \nWhat You Will Learn\nOur comprehensive PALS training covers critical topics for providers caring for infants and children: \n• Pediatric Assessment Triangle (PAT) and Systematic Approach\n• Management of Pediatric Respiratory Failure and Shock\n• PALS Algorithms for Bradycardia\, Tachycardia and Cardiac Arrest\n• Post-Resuscitation Care\n• Effective communication and PALS team dynamics\n• Develop strategies to stay calm and focused during pediatric resuscitation \nWho Should Attend?\nThis course is designed for those whose job responsibilities require PALS certification and have a current and valid PALS certification eCard .  This includes\, but not limited to: \n• Pediatricians\n• Nurses (RNs\, NPs\, PAs)\n• Emergency/Critical Care Personal\n• Respiratory Therapists\n• Paramedics \nFor any questions\, call us at 701-858-6310.
URL:https://www.trinityhealth.org/event/pediatric-advanced-life-support-update-2/
LOCATION:Trinity Health Riverside\, 1900 8th Ave. SE\, Minot\, ND
ORGANIZER;CN="EMS Education":MAILTO:ems.education@trinityhealth.org
END:VEVENT
BEGIN:VEVENT
DTSTART;TZID=America/North_Dakota/Center:20260318T190000
DTEND;TZID=America/North_Dakota/Center:20260318T203000
DTSTAMP:20260423T130439
CREATED:20260202T172000Z
LAST-MODIFIED:20260202T172000Z
UID:10004163-1773860400-1773865800@www.trinityhealth.org
SUMMARY:Stroke Support Group
DESCRIPTION:This group is open to all stroke survivors and caregivers. For more information\, call Jerilyn at 701-418-8518.
URL:https://www.trinityhealth.org/event/stroke-support-group-2/
LOCATION:Trinity Health Riverside Education Center\, 1900 8th Avenue SE\, Minot\, North Dakota\, 58701
CATEGORIES:Trinity Health Events
END:VEVENT
BEGIN:VEVENT
DTSTART;TZID=America/North_Dakota/Center:20260327T120000
DTEND;TZID=America/North_Dakota/Center:20260327T150000
DTSTAMP:20260423T130439
CREATED:20260202T165612Z
LAST-MODIFIED:20260202T170810Z
UID:10004157-1774612800-1774623600@www.trinityhealth.org
SUMMARY:Free Community Car Seat Checks
DESCRIPTION:Is your car seat: \n\nRight for your child?\nProperly installed?\nIn safe condition?\nRecalled or expired?\n\nCar seat checks are hosted by the Minot Fire Department and the Minot Car Seat Coalition. The Coalition consists of First District Health Unit\, Trinity Health\, Minot Fire Department and other Community Partners. \nSeat Checks are by appointment only. To make an appointment\, call First District Health Unit at 701-837-5195. If leaving a message\, please give the following information: number of seats to be checked\, make and model of vehicle\, ages of child(ren)\, brand and model of car seat and preferred time of check on scheduled date. \n\nPlease allow 45 minutes per seat.\nAll car seat checks will take place at Minot Fire Station Number 1\, 2111 10th St. SW\, Minot. (Enter through the north garage doors.)\nIf you have a cough\, fever or shortness of breath\, or are not feeling well\, please call 701-837-5195\, leave a message with your name and callback number\, and arrangements will be made for a seat check on a later date.\n\nDonations gratefully accepted.
URL:https://www.trinityhealth.org/event/free-community-car-seat-checks-5/
LOCATION:Minot Fire Station Number 1\, 2111 10th Street SW\, Minot\, ND\, 58701
CATEGORIES:Trinity Health Events
END:VEVENT
BEGIN:VEVENT
DTSTART;TZID=America/North_Dakota/Center:20260331T080000
DTEND;TZID=America/North_Dakota/Center:20260331T170000
DTSTAMP:20260423T130439
CREATED:20251205T210609Z
LAST-MODIFIED:20251231T213040Z
UID:10004147-1774944000-1774976400@www.trinityhealth.org
SUMMARY:12-Lead (ECG Interpretation)
DESCRIPTION:12-Lead (ECG Interpretation) \nAre you a healthcare professional who participates in the management of cardiac emergencies? Elevate your critical care expertise with the 12-Lead ECG Interpretation Course taught by the EMS Education Department. This essential training builds on your medical knowledge enhancing care of critical cardiac patients. \nCourse Overview & Key Benefits \nThe 12-Lead ECG Interpretation Course provides a clear\, practical foundation for recognizing cardiac abnormalities quickly and accurately. Designed for ALS healthcare providers\, this course breaks down complex ECG concepts into simple steps\, helping participants build real-world confidence in identifying ischemia\, STEMI patterns\, conduction disturbances\, and more. \n• Step-by-step interpretation method using real ECG’s for consistent accuracy\n• Improved recognition of high-risk cardiac conditions\n• Builds confidence for hospital\, prehospital and clinical care settings by strengthening clinical assessments and decision-making skills \nWhat You Will Learn\nParticipants will gain the ability to: \n• Interpret 12-Lead ECGs using a systematic approach\n• Understanding cardiac anatomy and electrical conduction as it relates to ECG interpretation\n• Identify STEMI\, NSTEMI\, ischemia and axis deviations\n• Recognize bundle branch blocks and electrolyte changes\n• Apply proper lead placement and troubleshoot common ECG artifacts\n• Use ECG findings to guide clinical action in emergency and non-emergency settings \nWho Should Attend\nThis course is designed for: \n• Emergency Department and Critical Care Nurses\n• Cardiac Care and Telemetry Staff\n• Nurse Practitioners\, Physician Assistants and Medical Students\n• Paramedics\n• Any healthcare provider seeking to improve ECG interpretation skills \nFor any questions\, call us at 701-858-6310.
URL:https://www.trinityhealth.org/event/12-lead-ecg-interpretation-2/
LOCATION:Trinity Health Riverside Education Center\, 1900 8th Avenue SE\, Minot\, North Dakota\, 58701
ORGANIZER;CN="EMS Education":MAILTO:ems.education@trinityhealth.org
END:VEVENT
END:VCALENDAR