BEGIN:VCALENDAR
VERSION:2.0
PRODID:-//Trinity Health - ECPv6.15.9//NONSGML v1.0//EN
CALSCALE:GREGORIAN
METHOD:PUBLISH
X-WR-CALNAME:Trinity Health
X-ORIGINAL-URL:https://www.trinityhealth.org
X-WR-CALDESC:Events for Trinity Health
REFRESH-INTERVAL;VALUE=DURATION:PT1H
X-Robots-Tag:noindex
X-PUBLISHED-TTL:PT1H
BEGIN:VTIMEZONE
TZID:America/North_Dakota/Center
BEGIN:DAYLIGHT
TZOFFSETFROM:-0600
TZOFFSETTO:-0500
TZNAME:CDT
DTSTART:20250309T080000
END:DAYLIGHT
BEGIN:STANDARD
TZOFFSETFROM:-0500
TZOFFSETTO:-0600
TZNAME:CST
DTSTART:20251102T070000
END:STANDARD
BEGIN:DAYLIGHT
TZOFFSETFROM:-0600
TZOFFSETTO:-0500
TZNAME:CDT
DTSTART:20260308T080000
END:DAYLIGHT
BEGIN:STANDARD
TZOFFSETFROM:-0500
TZOFFSETTO:-0600
TZNAME:CST
DTSTART:20261101T070000
END:STANDARD
BEGIN:DAYLIGHT
TZOFFSETFROM:-0600
TZOFFSETTO:-0500
TZNAME:CDT
DTSTART:20270314T080000
END:DAYLIGHT
BEGIN:STANDARD
TZOFFSETFROM:-0500
TZOFFSETTO:-0600
TZNAME:CST
DTSTART:20271107T070000
END:STANDARD
END:VTIMEZONE
BEGIN:VEVENT
DTSTART;TZID=America/North_Dakota/Center:20260421T080000
DTEND;TZID=America/North_Dakota/Center:20260422T170000
DTSTAMP:20260422T015802
CREATED:20260302T145923Z
LAST-MODIFIED:20260302T151440Z
UID:10004166-1776758400-1776877200@www.trinityhealth.org
SUMMARY:Advanced Medical Life Support
DESCRIPTION:NAEMT AMLS Provider Course (Advanced Medical Life Support) \nAre you a healthcare professional involved in the management of medical emergencies? Enhance your clinical decision-making and critical care skills with the National Association of Emergency Medical Technicians (NAEMT) Advanced Medical Life Support (AMLS) Provider Course. AMLS is widely recognized as the gold standard in education for emergency medical assessment and treatment and is endorsed by the National Association of EMS Physicians (NAEMSP). \nThis course is primarily designed for emergency healthcare providers working in emergency departments\, clinics\, and pre-hospital settings. \nCourse Overview \nAdvanced Medical Life Support (AMLS) remains the gold standard of education for emergency medical assessment and treatment and is endorsed by the National Association of EMS Physicians. In the fourth edition of AMLS\, participants learn to recognize and manage emergent medical crises through realistic\, case-based scenarios that challenge students to apply their knowledge to critically ill patients. The course emphasizes interactive group discussion focused on differential diagnosis and treatment strategies\, allowing learners to systematically evaluate possibilities and probabilities when managing medical emergencies. Realistic patient simulations are incorporated to further enhance the learning experience. \nWhat You Will Learn \n\nA systematic approach to assessing and managing medical emergencies\nRecognition and response to common and uncommon medical emergencies\nEvaluation and management of chest pain with or without cardiac involvement\nEvidence-based updates on neurological disorders\nConsideration of medical issues related to sexual identity\nAssessment and response to environmental and toxicological emergencies\n\nWho Should Attend\nThis course is intended for healthcare professionals whose roles require AMLS certification\, including but not limited to: \n\nEmergency Medical Technicians (EMTs)\nParamedics\nEmergency Department Registered Nurses\nCritical Care Personnel\n\nFor any questions\, call us at 701-858-6310.
URL:https://www.trinityhealth.org/event/advanced-medical-life-support/
LOCATION:Trinity Health Riverside Education Center\, 1900 8th Avenue SE\, Minot\, North Dakota\, 58701
ORGANIZER;CN="EMS Education":MAILTO:ems.education@trinityhealth.org
END:VEVENT
END:VCALENDAR