BEGIN:VCALENDAR
VERSION:2.0
PRODID:-//Trinity Health - ECPv6.15.9//NONSGML v1.0//EN
CALSCALE:GREGORIAN
METHOD:PUBLISH
X-WR-CALNAME:Trinity Health
X-ORIGINAL-URL:https://www.trinityhealth.org
X-WR-CALDESC:Events for Trinity Health
REFRESH-INTERVAL;VALUE=DURATION:PT1H
X-Robots-Tag:noindex
X-PUBLISHED-TTL:PT1H
BEGIN:VTIMEZONE
TZID:America/North_Dakota/Center
BEGIN:DAYLIGHT
TZOFFSETFROM:-0600
TZOFFSETTO:-0500
TZNAME:CDT
DTSTART:20250309T080000
END:DAYLIGHT
BEGIN:STANDARD
TZOFFSETFROM:-0500
TZOFFSETTO:-0600
TZNAME:CST
DTSTART:20251102T070000
END:STANDARD
BEGIN:DAYLIGHT
TZOFFSETFROM:-0600
TZOFFSETTO:-0500
TZNAME:CDT
DTSTART:20260308T080000
END:DAYLIGHT
BEGIN:STANDARD
TZOFFSETFROM:-0500
TZOFFSETTO:-0600
TZNAME:CST
DTSTART:20261101T070000
END:STANDARD
BEGIN:DAYLIGHT
TZOFFSETFROM:-0600
TZOFFSETTO:-0500
TZNAME:CDT
DTSTART:20270314T080000
END:DAYLIGHT
BEGIN:STANDARD
TZOFFSETFROM:-0500
TZOFFSETTO:-0600
TZNAME:CST
DTSTART:20271107T070000
END:STANDARD
END:VTIMEZONE
BEGIN:VEVENT
DTSTART;TZID=America/North_Dakota/Center:20260404T090000
DTEND;TZID=America/North_Dakota/Center:20260404T140000
DTSTAMP:20260423T103030
CREATED:20251119T213648Z
LAST-MODIFIED:20260225T170614Z
UID:10004075-1775293200-1775311200@www.trinityhealth.org
SUMMARY:Heartsaver First Aid CPR AED for Adults
DESCRIPTION:AHA Heartsaver First Aid CPR AED for Adults\nBe prepared to act confidently in any emergency- at home\, at work or in your community.  The American Heart Association (AHA) Heartsaver First Aid CPR AED for Adults Course is the most comprehensive training designed for individuals with little or no medical background who simply want the power to save a life. \nThis single\, dynamic course combines the three most critical life-saving skills\, empowering you to manage the first minutes of an emergency until professional help arrives. \nCourse Overview & Key Benefits\nTaught using the AHA’s proven practice-while-watching method\, this video-based\, instructor-led course is highly engaging and focuses on hands-on skill mastery.  We don’t just teach theory; we build confidence through realistic scenarios. \n• Comprehensive Skills: Learn to manage both sudden cardiac events and common injuries/illnesses.\n• Official Certification: Receive your two-year AHA Heartsaver Course Completion Card\, required by many employers. \nWhat You Will Learn\nThis First Aid CPR AED course covers essential\, practical skills for all ages: \n• First Aid Basics: Duties\, roles and responsibilities of the First Aid rescuer.\n• CPR & AED Use: Performing high-quality CPR and using an Automated External Defibrillator (AED) on adults\, children and infants.\n• Medical Emergencies: Recognizing and responding to heart attack\, stroke\, difficulty breathing\, severe allergic reactions (EpiPen use) and diabetic emergencies.\n• Injury Emergencies: Controlling bleeding\, treating burns\, broken bones/sprains and handling head/spinal injuries.\n• Choking Relief: Techniques for adults\, children and infants. \nWho Should Attend?\nThis course is specifically designed for non-healthcare professionals who require a First Aid CPR AED certification for job or regulatory requirements or who wish to be prepared to act in an emergency: \n• Workplace: Teachers\, Coaches\, Fitness Trainers\, Construction Workers\, Security Guards\, Corporate Employees.\n• Family/Community: Parents\, Grandparents and concerned citizens who want to be ready for an emergency they can help until professional help arrives. \nFor any questions\, call us at 701-858-6310.
URL:https://www.trinityhealth.org/event/heartsaver-first-aid-cpr-aed-for-adults-2/
LOCATION:Trinity Health Riverside Education Center\, 1900 8th Avenue SE\, Minot\, North Dakota\, 58701
END:VEVENT
END:VCALENDAR